BEGIN:VCALENDAR
VERSION:2.0
PRODID:-//O~art centrum Skalica - ECPv6.15.17//NONSGML v1.0//EN
CALSCALE:GREGORIAN
METHOD:PUBLISH
X-WR-CALNAME:O~art centrum Skalica
X-ORIGINAL-URL:https://o.artcentrum.sk
X-WR-CALDESC:Udalosti pre O~art centrum Skalica
REFRESH-INTERVAL;VALUE=DURATION:PT1H
X-Robots-Tag:noindex
X-PUBLISHED-TTL:PT1H
BEGIN:VTIMEZONE
TZID:Europe/Bratislava
BEGIN:DAYLIGHT
TZOFFSETFROM:+0100
TZOFFSETTO:+0200
TZNAME:CEST
DTSTART:20250330T010000
END:DAYLIGHT
BEGIN:STANDARD
TZOFFSETFROM:+0200
TZOFFSETTO:+0100
TZNAME:CET
DTSTART:20251026T010000
END:STANDARD
BEGIN:DAYLIGHT
TZOFFSETFROM:+0100
TZOFFSETTO:+0200
TZNAME:CEST
DTSTART:20260329T010000
END:DAYLIGHT
BEGIN:STANDARD
TZOFFSETFROM:+0200
TZOFFSETTO:+0100
TZNAME:CET
DTSTART:20261025T010000
END:STANDARD
BEGIN:DAYLIGHT
TZOFFSETFROM:+0100
TZOFFSETTO:+0200
TZNAME:CEST
DTSTART:20270328T010000
END:DAYLIGHT
BEGIN:STANDARD
TZOFFSETFROM:+0200
TZOFFSETTO:+0100
TZNAME:CET
DTSTART:20271031T010000
END:STANDARD
END:VTIMEZONE
BEGIN:VEVENT
DTSTART;TZID=Europe/Bratislava:20260425T200000
DTEND;TZID=Europe/Bratislava:20260426T020000
DTSTAMP:20260426T000246
CREATED:20260128T122915Z
LAST-MODIFIED:20260420T123550Z
UID:870-1777147200-1777168800@o.artcentrum.sk
SUMMARY:BERLIN MANSON + URGES + Dj Hanny
DESCRIPTION:Berlin Manson je slovenské post-punkové trio. Ich nekompromisné texty a živé vystúpenia z nich urobili jednu z najvýraznejších kapiel na Slovensku a v Českej republike.\nLen za posledné dva roky vydali tri albumy Poor But Sexy\, Polámeme svoje ID a Alternative für Disneyland – ich neúnavná kreativita spája punkovú naliehavosť a je priesečníkom polického komentáru s iróniou. Ich hudba vychádza z postindustriálnej reality a spája protest aj párty. Nedávno sa predstavili na festivaloch ako Sziget (HU)\, OFF (PL)\, ESNS (NL)\, Pohoda\, Grape a mnohých iných. Časopis Kapitál o nich napísal: „Berlin Manson je dôkazom úplnej slobody žánru\, produkcie a postoja\, bez snahy prispôsobiť sa vopred danému obrazu alebo zapadnúť. \ndátum:\nSobota 25.4.2o26 / 20:00-02:00\nmiesto:\nO~art centrum Skalica\n(Potočná 18\, 1.poschodie nad COOP-Jednota) \ninterpréti:\nBERLIN MANSON\nURGES – https://linktr.ee/urgesprojectDj HANNY – https://www.instagram.com/x._.x.hanny.x._.x \nvstupné:\npredpredaj 10€
URL:https://o.artcentrum.sk/event/berlin-manson-nic-nebude-ok-tour/
LOCATION:O~art centrum\, Potočná 250/18\, Skalica\, 90901\, Slovakia (Slovak Republic)
ATTACH;FMTTYPE=image/jpeg:https://o.artcentrum.sk/wp-content/uploads/2026/01/berlin_fbevent.jpg
ORGANIZER;CN="DVERE o.z.":MAILTO:info@o.artcentrum.sk
END:VEVENT
BEGIN:VEVENT
DTSTART;TZID=Europe/Bratislava:20260501T200000
DTEND;TZID=Europe/Bratislava:20260502T010000
DTSTAMP:20260426T000246
CREATED:20260222T131950Z
LAST-MODIFIED:20260222T132503Z
UID:1254-1777665600-1777683600@o.artcentrum.sk
SUMMARY:CATASTROFY + LIKE FOOL v O~art centrum
DESCRIPTION:CATASTROFY prídu zaťať valašky aj do O~art centra a sekundovať im pri tom budú LIKE FOOL! \nZ Temnej strany Malých Karpát prichádza banda\, ktorá to drhne už od roku 2005 a za ten čas dokázala spojiť thrash metal\, folklór aj humor čiernejší než ich tričká. Po rokoch opäť privítame slovenskú smršť menom Catastrofy v Skalici! \nZ Moravy sa dovalí ďalšia kovová vlna\, čo si okrem hudby zo sveta s nadhľadom robí srandu rýchlejšie než dvojkopák stíha biť! Pripravte sa na nadhľad\, energiu a poriadny metalový výplach – dobre známi LIKE FOOL to rozbalia v O~art centre! \ntermín: Piatok o1.o5.2o26 / 20:00\nmiesto: O~art centrum Skalica (Potočná 18 – 1. poschodie)\nPredpredaj: 12€\nhttps://o.artcentrum.sk/event/catastrofy-like-fool-v-oart-centrum/
URL:https://o.artcentrum.sk/event/catastrofy-like-fool-v-oart-centrum/
LOCATION:O~art centrum\, Potočná 250/18\, Skalica\, 90901\, Slovakia (Slovak Republic)
CATEGORIES:Koncerty
ATTACH;FMTTYPE=image/jpeg:https://o.artcentrum.sk/wp-content/uploads/2026/02/1-5_fbevent.jpg
ORGANIZER;CN="DVERE o.z.":MAILTO:info@o.artcentrum.sk
END:VEVENT
BEGIN:VEVENT
DTSTART;TZID=Europe/Bratislava:20260509T080000
DTEND;TZID=Europe/Bratislava:20260509T200000
DTSTAMP:20260426T000246
CREATED:20260219T160346Z
LAST-MODIFIED:20260221T171811Z
UID:1182-1778313600-1778356800@o.artcentrum.sk
SUMMARY:NYTT LAND + VALAR v O~art centrum
DESCRIPTION:NYTT LAND je jedinečný hudobný projekt pochádzajúci zo Západnej Sibíri\, ktorý v sebe spája mystiku starodávnych severných kultúr\, tradícií a prírodných zvukov so silným rituálnym nábojom. NYTT LAND vás vezme na cestu cez tundru a mongolské stepi až k škandinávskym fjordom – stačí sa len nechať unášať!\nUž od roku 2013 vytvárajú hudbu\, ktorá presahuje bežné žánrové hranice\, kto sa s hudbou NYTT LAND ešte nestretol\, môže očakávať prvotriedny atmosférický zážitok – hudbu\, ktorá vás prenesie do iného sveta — hlboké rytmy\, šamanistické prvky\, silné vokály s hudobnou meditáciou.\nOriginálne hudobné prevedenie je postavené na tradičných a unikátnych nástrojoch: od talharpy a kantele po lyru a perkusie – viaceré nástroje si kapela vyrába ručne.\nCelý koncept je postavený na historických a prírodných témach a unikátnych jazykoch. Originálnej hudbe dominujú chorálne a šamanické vokály\, ktoré sa často prelínajú s tradíciami starého severu a tiež s prvkami kehlového (throat) spevu.Samotné texty aj hudba sú inšpirované mýtmi\, príbehmi starého sveta\, Sibírskou prírodou\, ktoré sú odprezentované starými jazykovými formami. Texty sú najmä v staroseverčine a iných archaických či domorodých jazykoch\, čím vytvárajú autentickú atmosféru.\nNYTT LAND pravidelne vystupujú na rôznych viking\, folk a metal festivaloch po celej Európe a ich živé koncerty sú často opisované\, ako silný rituálny zážitok. Aktuálne celoeurópske turné “Aba Khan” je venované ich novému rovnomennému albumu\, ktoré sľubuje silný umelecký zážitok postavený na tradíciách a hlbokých inšpiráciách prírodou a dávnou kultúrou. Kapela dlhoročne vydáva svoje počiny pod veľkými európskymi vydavateľstvami\, ako NAPALM RECORDS\, PROPHECY PRODUCTIONS a pod.\nAk máte radi atmosférickú\, hlbokú a rituálnu hudbu\, ktorá vás dokáže uniesť do sveta mýtov a dávnych tradícií\, NYTT LAND je pre vás to pravé. Ich koncert nie je len hudobnou udalosťou — je to cesta cez čas\, priestor a kultúru\, ktorá osloví milovníkov severského folklóru\, ambientu a etnických hudobných zážitkov.\nTáto událost je príjemnou povinnosťou pre všetkých fanúšikov skupín ako Wardruna\, Heilung\, so štýlovým zameraním Nordic Folk\, Dark Folk\, Ambient\, Ritual Folk a podobne…https://www.facebook.com/nyttland\nAko špeciálny hosť vystúpi domáca skupina VALAR\, ktorá nám prinesie vystúpenie plné tanca\, pri ktorom pivo potečie potokom.\nVALAR – hudobná skupina votkaná do bohatej tapisérie stredovekej folkovej hudby\, sa môže pochváliť kvintetom talentovaných hudobníkov. Čiastočne venovaný umeniu autentických stredovekých melódií\, ich žáner vzdáva poctu žiarivým ozvenám dávnej éry\, evokujúcej hromy bitky a bujaré oslavy.Oddanosť Valaru zachovávať a presahovať stredovekú hudobnú tradíciu\, vychádza z neochvejnej vernosti krásam dávnych čias a ponúka strhujúcu cestu hudbou\, ktorá prenesie divákov do srdca zabudnutej éry. Valar pozýva poslucháčov užiť si nádheru stredovekých melódií a zaručuje\, že ozveny ich hudby budú rezonovať v histórii aj v súčasnosti.https://www.facebook.com/valarofficial\nmiesto:O~art centrum Skalica(Potočná 18\, nad COOP-Jednota I.poschodie)dátum:Sobota 9.5.2o26 / 20:00\nPREDPREDAJ:1. vlna – 19€ / 2. vlna 21€ / na mieste 25€https://tootoot.fm/sk/events/6996ff24bf688dcffe599a9d
URL:https://o.artcentrum.sk/event/nytt-land-valar-v-oart-centrum/
LOCATION:O~art centrum\, Potočná 250/18\, Skalica\, 90901\, Slovakia (Slovak Republic)
CATEGORIES:Koncerty
ATTACH;FMTTYPE=image/jpeg:https://o.artcentrum.sk/wp-content/uploads/2026/02/09_05_fbevent.jpg
ORGANIZER;CN="MAREA PRODUCTION":MAILTO:marea@europe.com
END:VEVENT
BEGIN:VEVENT
DTSTART;TZID=Europe/Bratislava:20260512T150000
DTEND;TZID=Europe/Bratislava:20260512T180000
DTSTAMP:20260426T000246
CREATED:20260417T062007Z
LAST-MODIFIED:20260417T161419Z
UID:1947-1778598000-1778608800@o.artcentrum.sk
SUMMARY:Kurz PRVEJ POMOCI Marek Rafaj
DESCRIPTION:Pozývame na kurz PRVEJ POMOCI pre verejnosť \nAk chceš mať zručnosti v pri poskytnutí prvej pomoci\, alebo sa ďalej zdokonaliť a rozšíriť svoje schopnosti v prípade všeobecnej prvej pomoci ale aj špeciálne u DETÍ a DOJČIAT\, tak neváhaj a pridaj sa na tento kurz. \nKurz sa uskutoční v utorok 12.5.2026 o 15:00 u nás v O~art centre Skalica pod vedením lektora Ing. Mgr. Mareka Rafaja\, ktorý má dlhoročné skúsenosti s výučbou prvej pomoci pre profesionálne zložky IZS\, kurz je akreditovaný Ministerstvom zdravotníctva SR a po jeho absolvovaní získava účastník certifikát spôsobilej osoby poskytnutia PRVEJ POMOCI. \nKurz je určený pre každého kto chce pomôcť\, pre rodičov a budúcich rodičov\, ale aj starých rodičov\, trénerov a opatrovateľov. \nNaučiť a zdokonaliť sa môžeš v KPR – resuscitáciu dospelých ale aj detí v základných a okamžitých postupoch pri následkoch šoku po úraze\, dusenia\, krvácania či popálenín. \nTieto Tvoje schopnosti môžu niekedy pomôcť inému človeku\, či príbuznému zachrániť to najcennejšie čo máme\, zdravie či život. \nmiesto: O~art centrum Skalica [Potočná ulica 18\, I.poschodie nad potravinami COOP_Jednota] \nkedy: utorok 12.5.2026 // 15:00 – 18:00 hod. (3 hodiny) \nlektor: Ing.\, Mgr. Marek Rafaj\, tel: +421/ 948 599 190\, mail: marekrafaj@gmail.com (profesionálny hasič a lektor) \nza koľko: 25 €\nregistrácia: pomocou QR kódu v grafike\, alebo na uvedený mail: marekrafaj@gmail.com
URL:https://o.artcentrum.sk/event/kurz-prvej-pomoci-marek-rafaj/
LOCATION:O~art centrum\, Potočná 250/18\, Skalica\, 90901\, Slovakia (Slovak Republic)
CATEGORIES:Prednášky
ATTACH;FMTTYPE=image/jpeg:https://o.artcentrum.sk/wp-content/uploads/2026/04/FB-nastenka-Kurz-Prvej-Po-1.jpg
END:VEVENT
BEGIN:VEVENT
DTSTART;TZID=Europe/Bratislava:20260516T193000
DTEND;TZID=Europe/Bratislava:20260516T193000
DTSTAMP:20260426T000246
CREATED:20260327T075759Z
LAST-MODIFIED:20260327T080816Z
UID:1674-1778959800-1778959800@o.artcentrum.sk
SUMMARY:SLOBODNÁ EURÓPA v O~art centrum Skalica
DESCRIPTION:Slovenská punk-rocková legenda SLOBODNÁ EURÓPA po svojich tradičných a obľúbených koncertoch v legendárnej ORLOVNI mieri aj do nášho nového O-art centra Skalica.\nSLOBODKU asi netreba svojim fans či ostatnej verejnosti veľmi predstavovať. Vo svojej už dlhé roky pevnej zostave Whisky (Miloslav Láber) – spev\, Sveťo (Svetozár Korbeľ) gitara\, Tuleň (Tomáš Vojtek) – bicie\, Peťo (Peter Bálik) gitara\, Rasťo (Rastislav Gore) – basa\, nám naservírujú kultové skladby ako Podvod\, Unavený a zničený\, Relatívny pokoj\, Analýza dokázala hovno\, Som ten a ďalšie. \nZábava bude 100%\, ako chalanov poznáme a ako si to vedia so svojimi fanúšikmi užiť a zabaviť ich. \nTešíme sa aj my a veríme\, že náš nový priestor SLOBODKA pokrstí poriadne punkovo\, hoblúúúúj – pogo_ \nprogram: SLOBODNÁ EURÓPA\nmiesto: O~art centrum Skalica\n[Potočná 18\, I.poschodie – nad COOP-Jendota]\ntermín: Sobota 16.05.2026 / 19:30\nvstupné: predpredaj I.vlna 18€ / II.vlna 23€ / na mieste 25€
URL:https://o.artcentrum.sk/event/slobodna-europa-v-oart-centrum-skalica/
LOCATION:O~art centrum\, Potočná 250/18\, Skalica\, 90901\, Slovakia (Slovak Republic)
CATEGORIES:Koncerty
ATTACH;FMTTYPE=image/jpeg:https://o.artcentrum.sk/wp-content/uploads/2026/03/slobodkaFBudalost-scaled.jpg
ORGANIZER;CN="DVERE o.z.":MAILTO:info@o.artcentrum.sk
END:VEVENT
BEGIN:VEVENT
DTSTART;TZID=Europe/Bratislava:20260606T200000
DTEND;TZID=Europe/Bratislava:20260607T020000
DTSTAMP:20260426T000246
CREATED:20260407T152418Z
LAST-MODIFIED:20260407T153416Z
UID:1777-1780776000-1780797600@o.artcentrum.sk
SUMMARY:MEDIAL BANANA + hostia v O~art centre
DESCRIPTION:Ikona slovenského reggae MEDIAL BANANA prichádza prvýkrát na klubový koncert do Skalice a to k nám do O~art centra. \nRidding Show v zostave spev & rap Pokyman & Erik Šulc a Sveťo aka Dj Simple Sample Ťa 100% roztancujú a rozospievajú. Bude reggae\, bude rap\, trap\, ska ale hlavne veľa & veľa pohodovej\, pozitívnej energie\, lásky a neopísateľný vibes_ \nNenechaj si ujsť tento večer a príd sa zabaviť\, lebo zábava bude zaručená 😉 \nCelý večer odpáli náš skoro domáci @ronaldweedman a to aj s tanečníčkami @choreofactory a chrbát celej party budú držať páááni Dj´s @ssmpl & @selecta_skandyman. \nZapisuj si teda \,\,magic\,\, dátum Sobota o6.o6.2o26 a vidíííme sa_ \nJeááá a samozrejme uchmatni si najvýhodnejšie vstupné v prvej limitovanej vlne predpredaja iba za 13€ \nprogram: MEDIAL BANANA & Ronald Weedman & Dj´s Simple Sampl a Selecta_Skandyman \nkde: O~art centrum Skalica [Potočná 18 / I.poschodie] \nkedy: Sobota 6.6.2026 / 20:00 – 02:00 \nvstupné: predpredaj I.vlna 13€ & II.vlna 15€ & na mieste 😉
URL:https://o.artcentrum.sk/event/medial-banana-hostia-v-oart-centrum/
LOCATION:O~art centrum\, Potočná 250/18\, Skalica\, 90901\, Slovakia (Slovak Republic)
CATEGORIES:Koncerty,Parties
ATTACH;FMTTYPE=image/jpeg:https://o.artcentrum.sk/wp-content/uploads/2026/04/fb-event-banner.jpg
ORGANIZER;CN="DVERE o.z.":MAILTO:info@o.artcentrum.sk
END:VEVENT
BEGIN:VEVENT
DTSTART;TZID=Europe/Bratislava:20260626T190000
DTEND;TZID=Europe/Bratislava:20260626T233000
DTSTAMP:20260426T000246
CREATED:20260412T075304Z
LAST-MODIFIED:20260412T202553Z
UID:1851-1782500400-1782516600@o.artcentrum.sk
SUMMARY:MŇÁGA a ŽĎORP v O~art centre
DESCRIPTION:Skupinu MŇÁGA a ŽĎORP 🍎~🍐netreba pre veľa Vás asi ani predstavovať\, ale len pre poriadok – začneme tou najčerstvejšou a to že MŇÁGA bola ocenená ako najlepšia skupina roku na Ceny ANDEL 2025 _ gratulujeme 👏👏👏\nNo a klasika > 39. rokov na scéne\, Valmez ⛰️\, nové album 📀 po 7 rokoch Hoříš? Hodím!\nA stále podstivy alternatívny-rock s inteligentnými a vtipným textami na čele s charizmatickým frontmanom\, textárom a supr človekom Petrom Fialom 🤙.\nNo a veľa veľa osvedčených hitoviek a skladieb ako Hodinový hotel\, Písnička pro Tebe\, I Cesta Může Být Cíl a ďalšie čo doslova zludoveli\, ktoré si spoolu so skupinou užijeme\, zaspievame a aj zatancujeme 🕺~💃_\nBude to sqvelé ❤️‍🔥a už sa veľmi tešíme na MŇÁGU ✌️ ale aj Vás ľudia 😉 \nprogram: MŇÁGA a ŽĎORP\nmiesto: O~art centrum Skalica\n[Potočná 18\, I.poschodie – nad COOP-Jendota]\ntermín: Piatok 26.06.2026 / Dvere 19:00 hod. & Koncert 20:15 hod.\nvstupné: predpredaj I.vlna 18€ / II.vlna 23€ / na mieste 25€
URL:https://o.artcentrum.sk/event/mnaga-a-zdorp-v-oart-centre/
LOCATION:O~art centrum\, Potočná 250/18\, Skalica\, 90901\, Slovakia (Slovak Republic)
CATEGORIES:Koncerty
ATTACH;FMTTYPE=image/jpeg:https://o.artcentrum.sk/wp-content/uploads/2026/04/mnaga_FBudalost-scaled.jpg
ORGANIZER;CN="DVERE o.z.":MAILTO:info@o.artcentrum.sk
END:VEVENT
END:VCALENDAR